BEGIN:VCALENDAR
VERSION:2.0
PRODID:-//Citizens Utility Board - ECPv6.15.20//NONSGML v1.0//EN
CALSCALE:GREGORIAN
METHOD:PUBLISH
X-WR-CALNAME:Citizens Utility Board
X-ORIGINAL-URL:https://cubwi.org
X-WR-CALDESC:Events for Citizens Utility Board
REFRESH-INTERVAL;VALUE=DURATION:PT1H
X-Robots-Tag:noindex
X-PUBLISHED-TTL:PT1H
BEGIN:VTIMEZONE
TZID:America/Chicago
BEGIN:DAYLIGHT
TZOFFSETFROM:-0600
TZOFFSETTO:-0500
TZNAME:CDT
DTSTART:20240310T080000
END:DAYLIGHT
BEGIN:STANDARD
TZOFFSETFROM:-0500
TZOFFSETTO:-0600
TZNAME:CST
DTSTART:20241103T070000
END:STANDARD
BEGIN:DAYLIGHT
TZOFFSETFROM:-0600
TZOFFSETTO:-0500
TZNAME:CDT
DTSTART:20250309T080000
END:DAYLIGHT
BEGIN:STANDARD
TZOFFSETFROM:-0500
TZOFFSETTO:-0600
TZNAME:CST
DTSTART:20251102T070000
END:STANDARD
BEGIN:DAYLIGHT
TZOFFSETFROM:-0600
TZOFFSETTO:-0500
TZNAME:CDT
DTSTART:20260308T080000
END:DAYLIGHT
BEGIN:STANDARD
TZOFFSETFROM:-0500
TZOFFSETTO:-0600
TZNAME:CST
DTSTART:20261101T070000
END:STANDARD
END:VTIMEZONE
BEGIN:VEVENT
DTSTART;TZID=America/Chicago:20250707T080000
DTEND;TZID=America/Chicago:20250707T090000
DTSTAMP:20260423T074659
CREATED:20250701T220428Z
LAST-MODIFIED:20250703T162031Z
UID:14031-1751875200-1751878800@cubwi.org
SUMMARY:CUB Board July 2025 Annual Meeting
DESCRIPTION:The CUB Board of Directors will hold an organizational meeting on Monday\, July 7 at 8 a.m. \nThe board will elect officers for the 2025-26 year and will discuss director appointments to CUB board committees. \nFull agenda to come. \nThis meeting will take place virtually via Zoom. CUB members and members of the public who wish to attend may join by registering at this link.
URL:https://cubwi.org/event/cub-board-virtual-annual-meeting/
ATTACH;FMTTYPE=:
ORGANIZER;CN="Citizens Utility Board":MAILTO:staff@cubwi.org
END:VEVENT
END:VCALENDAR